BEGIN:VCALENDAR
VERSION:2.0
PRODID:-//Berkshires Farm Table - ECPv6.15.20//NONSGML v1.0//EN
CALSCALE:GREGORIAN
METHOD:PUBLISH
X-WR-CALNAME:Berkshires Farm Table
X-ORIGINAL-URL:https://berkshiresfarmtable.com
X-WR-CALDESC:Events for Berkshires Farm Table
REFRESH-INTERVAL;VALUE=DURATION:PT1H
X-Robots-Tag:noindex
X-PUBLISHED-TTL:PT1H
BEGIN:VTIMEZONE
TZID:America/New_York
BEGIN:DAYLIGHT
TZOFFSETFROM:-0500
TZOFFSETTO:-0400
TZNAME:EDT
DTSTART:20250309T070000
END:DAYLIGHT
BEGIN:STANDARD
TZOFFSETFROM:-0400
TZOFFSETTO:-0500
TZNAME:EST
DTSTART:20251102T060000
END:STANDARD
BEGIN:DAYLIGHT
TZOFFSETFROM:-0500
TZOFFSETTO:-0400
TZNAME:EDT
DTSTART:20260308T070000
END:DAYLIGHT
BEGIN:STANDARD
TZOFFSETFROM:-0400
TZOFFSETTO:-0500
TZNAME:EST
DTSTART:20261101T060000
END:STANDARD
BEGIN:DAYLIGHT
TZOFFSETFROM:-0500
TZOFFSETTO:-0400
TZNAME:EDT
DTSTART:20270314T070000
END:DAYLIGHT
BEGIN:STANDARD
TZOFFSETFROM:-0400
TZOFFSETTO:-0500
TZNAME:EST
DTSTART:20271107T060000
END:STANDARD
END:VTIMEZONE
BEGIN:VEVENT
DTSTART;VALUE=DATE:20260701
DTEND;VALUE=DATE:20260801
DTSTAMP:20260423T023916
CREATED:20250710T120058Z
LAST-MODIFIED:20250823T142350Z
UID:1958-1782864000-1785542399@berkshiresfarmtable.com
SUMMARY:Robert Bildner Photograpy Exhibition at Stockbridge Library
DESCRIPTION:Experience the Berkshires through the photography of Robert Bildner\, featured in the Berkshires Farm Table Cookbook. His work will be on exhibit at the Stockbridge Library from July 1–31\, 2026\, highlighting the region’s farms\, food\, and communities.
URL:https://berkshiresfarmtable.com/event/robert-bildner-photograpy-exhibition-at-stockbridge-library/
LOCATION:Stockbridge Library\, 46 Mail Street\, Stockbridge\, MA\, 01262\, United States
END:VEVENT
BEGIN:VEVENT
DTSTART;TZID=America/New_York:20260718T150000
DTEND;TZID=America/New_York:20260718T163000
DTSTAMP:20260423T023916
CREATED:20260113T163304Z
LAST-MODIFIED:20260113T163622Z
UID:2255-1784386800-1784392200@berkshiresfarmtable.com
SUMMARY:BOOK TALK: The Berkshires Farm Table Cookbook
DESCRIPTION:In this book talk\, Elisa Spungen Bildner and Robert Bildner tell the story of family-run agriculture through the language of food with the new edition of TheBerkshires Farm Table Cookbook.\nThis stunning but approachable book offers more than 125 recipes to bring the magic of the Berkshires into your kitchen. Sweet Corn Pancakes\, Confetti Vegetable and Goat Cheese Lasagna\, Chicken Pot Pie\, Cranberry Cobbler\, and more celebrate the lush landscape of this western New England region. Complete with charming farm profiles and vibrant photographs\, The Berkshires Farm Table Cookbook paints a vivid portrait of the relationship between the earth and what we eat. \nThe photography of Robert Bildner\, featured in the Berkshires Farm Table Cookbook\, will be on exhibit at the Stockbridge Library from July 1–31\, 2026\, highlighting the region’s farms\, food\, and communities.
URL:https://berkshiresfarmtable.com/event/book-talk-the-berkshires-farm-table-cookbook/
LOCATION:Stockbridge Library\, 46 Mail Street\, Stockbridge\, MA\, 01262\, United States
END:VEVENT
BEGIN:VEVENT
DTSTART;TZID=America/New_York:20260801T110000
DTEND;TZID=America/New_York:20260801T120000
DTSTAMP:20260423T023916
CREATED:20260202T212326Z
LAST-MODIFIED:20260202T212326Z
UID:2291-1785582000-1785585600@berkshiresfarmtable.com
SUMMARY:Page to Plate: A Celebration of Cookbooks and Cooking at the Sharon Summer Book Signing
DESCRIPTION:Join Page to Plate: A Celebration of Cookbooks and Cooking at the Sharon Summer Book Signing. Enjoy a live cooking demonstration\, conversation\, and book signing featuring The Berkshires Farm Table Cookbook\, celebrating seasonal New England recipes where books and bites meet. \n  \n11:00-11:40am – Chat\, Q&A\, cooking demonstration \n11:40-12:00pm – Meet & greet in the signing area \nLocation: Under the white tents on the lawns of The Hotchkiss Library of Sharon
URL:https://berkshiresfarmtable.com/event/page-to-plate-a-celebration-of-cookbooks-and-cooking-at-the-sharon-summer-book-signing/
LOCATION:Hotchkiss Library of Sharon | 10 Upper Main St\, Sharon CT 06069\, 10 Upper Main St\, Sharon\, CT\, 06069\, United States
END:VEVENT
END:VCALENDAR