BEGIN:VCALENDAR
VERSION:2.0
PRODID:-//Berkshires Farm Table - ECPv6.15.20//NONSGML v1.0//EN
CALSCALE:GREGORIAN
METHOD:PUBLISH
X-WR-CALNAME:Berkshires Farm Table
X-ORIGINAL-URL:https://berkshiresfarmtable.com
X-WR-CALDESC:Events for Berkshires Farm Table
REFRESH-INTERVAL;VALUE=DURATION:PT1H
X-Robots-Tag:noindex
X-PUBLISHED-TTL:PT1H
BEGIN:VTIMEZONE
TZID:America/New_York
BEGIN:DAYLIGHT
TZOFFSETFROM:-0500
TZOFFSETTO:-0400
TZNAME:EDT
DTSTART:20240310T070000
END:DAYLIGHT
BEGIN:STANDARD
TZOFFSETFROM:-0400
TZOFFSETTO:-0500
TZNAME:EST
DTSTART:20241103T060000
END:STANDARD
BEGIN:DAYLIGHT
TZOFFSETFROM:-0500
TZOFFSETTO:-0400
TZNAME:EDT
DTSTART:20250309T070000
END:DAYLIGHT
BEGIN:STANDARD
TZOFFSETFROM:-0400
TZOFFSETTO:-0500
TZNAME:EST
DTSTART:20251102T060000
END:STANDARD
BEGIN:DAYLIGHT
TZOFFSETFROM:-0500
TZOFFSETTO:-0400
TZNAME:EDT
DTSTART:20260308T070000
END:DAYLIGHT
BEGIN:STANDARD
TZOFFSETFROM:-0400
TZOFFSETTO:-0500
TZNAME:EST
DTSTART:20261101T060000
END:STANDARD
BEGIN:DAYLIGHT
TZOFFSETFROM:-0500
TZOFFSETTO:-0400
TZNAME:EDT
DTSTART:20270314T070000
END:DAYLIGHT
BEGIN:STANDARD
TZOFFSETFROM:-0400
TZOFFSETTO:-0500
TZNAME:EST
DTSTART:20271107T060000
END:STANDARD
END:VTIMEZONE
BEGIN:VEVENT
DTSTART;TZID=America/New_York:20260326T170000
DTEND;TZID=America/New_York:20260326T190000
DTSTAMP:20260423T032549
CREATED:20251106T030107Z
LAST-MODIFIED:20251114T010526Z
UID:2168-1774544400-1774551600@berkshiresfarmtable.com
SUMMARY:BOOK TALK: The Berkshires Farm Table Cookbook
DESCRIPTION:In this book talk\, Elisa Spungen Bildner and Robert Bildner tell the story of family-run agriculture through the language of food with the new edition of TheBerkshires Farm Table Cookbook.\nThis stunning but approachable book offers more than 125 recipes to bring the magic of the Berkshires into your kitchen. Sweet Corn Pancakes\, Confetti Vegetable and Goat Cheese Lasagna\, Chicken Pot Pie\, Cranberry Cobbler\, and more celebrate the lush landscape of this western New England region. Complete with charming farm profiles and vibrant photographs\, The Berkshires Farm Table Cookbook paints a vivid portrait of the relationship between the earth and what we eat. \nThe conversation is moderated by journalist Jennifer Huberdeau and is followed by a book signing and one-of-a-kind dinner at our beloved Casita restaurant. \nAbout the Speakers:\nElisa Spungen Bildner and Robert Bildner are both former lawyers with experience in the local food industry who have lived in the Berkshires for more than 40 years. Elisa also worked as a journalist and professionally trained chef (School of Natural Cookery\, Boulder\, CO). Robert shot the farm and chef photographs for The Berkshires Farm Table Cookbook. The Bildners are prolific advocacy leaders in the non-profit\, philanthropic world with a focus on the Jewish community. \nJennifer Huberdeau is an arts and culture journalist and critic based in Massachusets. She is the art critic and features editor of The Berkshire Eagle\, where she oversees the food page\, and weekend section Berkshire Landscapes and writes a cookbook review column\, Fork & Folio. A member of the AlCA and a recipient of the 2021 Rabkin Prize for visual arts criticism. She resides in Adams.
URL:https://berkshiresfarmtable.com/event/book-talk/
LOCATION:1111 Mass MoCA Wy\, 1111 MASS MoCA Way\, North Adams\, MA 01247\, MA 01247\, United States
END:VEVENT
BEGIN:VEVENT
DTSTART;TZID=America/New_York:20260212T160000
DTEND;TZID=America/New_York:20260212T170000
DTSTAMP:20260423T032549
CREATED:20251203T141748Z
LAST-MODIFIED:20251203T141937Z
UID:2199-1770912000-1770915600@berkshiresfarmtable.com
SUMMARY:BOOK TALK: Sheffield Gardeners Monthly Meeting\, Sheffield Library
DESCRIPTION:Flavors and Stories of the Berkshires in Western Massachusetts\nIn the Newly Revised Edition of The Berkshires Farm Table Cookbook\nMore Than 125 Homegrown Recipes and Inspiring Farmer Profiles from New England’s Most Beloved Hills\nThe beloved celebration of local food\, sustainable agriculture\, and New England culture returns with even more heart in the newly revised edition of The Berkshires Farm Table Cookbook by Elisa Spungen Bildner and Robert Bildner\, with new recipes and farmer profiles. This fresh edition expands on the original’s mission—to spotlight the vibrant foodways\, resilient farms\, and deep-rooted sense of community that define western Massachusetts. \nPart cookbook\, part love letter to the land\, this updated edition features over 125 farm-to-table recipes and introduces a new generation of farmers\, food producers\, and chefs shaping the Berkshires’ culinary identity. From an evergreen Kale and Peanut Salad and Farm Hash with Poached Eggs to Sweet Corn Pancakes and Shiitake Mushroom Frittata\, the recipes remain grounded in the flavors of the region\, drawing directly from its fields\, orchards\, and community tables. \nAbout the Speakers:\nElisa Spungen Bildner and Robert Bildner are both former lawyers with experience in the local food industry who have lived in the Berkshires for more than 40 years. Elisa also worked as a journalist and professionally trained chef (School of Natural Cookery\, Boulder\, CO). Robert shot the farm and chef photographs for The Berkshires Farm Table Cookbook. The Bildners are prolific advocacy leaders in the non-profit\, philanthropic world with a focus on the Jewish community.
URL:https://berkshiresfarmtable.com/event/book-talk-sheffield-gardeners-monthly-meeting-sheffield-library/
LOCATION:Sheffield Library\, Bushnell-Sage Library\, Sheffield\, 01257\, United States
END:VEVENT
BEGIN:VEVENT
DTSTART;TZID=America/New_York:20260211T190000
DTEND;TZID=America/New_York:20260211T203000
DTSTAMP:20260423T032549
CREATED:20260126T225840Z
LAST-MODIFIED:20260126T230626Z
UID:2273-1770836400-1770841800@berkshiresfarmtable.com
SUMMARY:Jewish Values on Your Plate: Discovering Jewish Ethics in Eating Local With Elisa and Robert
DESCRIPTION:Virtual Event: Register here \n \n  \nElisa Spungen Bildner and Robert Bildner are lifelong food advocates\, former food entrepreneurs\, and longtime residents of the Berkshires. Elisa is a professionally trained chef and former journalist and Rob took the gorgeous scenery photos of the farms in the book. Together\, they bring decades of experience in the food world to this heartfelt celebration of their home region.
URL:https://berkshiresfarmtable.com/event/jewish-values-on-your-plate-discovering-jewish-ethics-in-eating-local-with-elisa-and-robert/
LOCATION:CT
END:VEVENT
BEGIN:VEVENT
DTSTART;VALUE=DATE:20250712
DTEND;VALUE=DATE:20250713
DTSTAMP:20260423T032549
CREATED:20250701T000815Z
LAST-MODIFIED:20250701T000815Z
UID:1758-1752278400-1752364799@berkshiresfarmtable.com
SUMMARY:Second Edition Launch
DESCRIPTION:
URL:https://berkshiresfarmtable.com/event/second-edition-launch/
LOCATION:Online
END:VEVENT
END:VCALENDAR